BEGIN:VCALENDAR
VERSION:2.0
PRODID:-//Universität Innsbruck//LFU:online//DE
METHOD:PUBLISH
BEGIN:VEVENT
UID:18W_124471_3222724@uibk.ac.at
ORGANIZER;CN="LFU:online Universität Innsbruck":MAILTO:Uni-Innsbruck-noreply@uibk.ac.at
SUMMARY:English: Communication Skills for MDs (Gruppe A) (LV 124471-0 18W)
DESCRIPTION:Lehrveranstaltung 124471 18W, Gruppe 0\nTitel: English: Communication Skills for MDs (Gruppe A)\nOrt: 60434 SR\n\nhttps://lfuonline.uibk.ac.at/public/lfuonline_lv.details?sem_id_in=18W&lvnr_id_in=124471\n
CLASS:PUBLIC
DTSTART:20181004T151500Z
DTEND:20181004T164500Z
DTSTAMP:20260421T031120Z
LOCATION:60434 SR
END:VEVENT
BEGIN:VEVENT
UID:18W_124471_3222725@uibk.ac.at
ORGANIZER;CN="LFU:online Universität Innsbruck":MAILTO:Uni-Innsbruck-noreply@uibk.ac.at
SUMMARY:English: Communication Skills for MDs (Gruppe A) (LV 124471-0 18W)
DESCRIPTION:Lehrveranstaltung 124471 18W, Gruppe 0\nTitel: English: Communication Skills for MDs (Gruppe A)\nOrt: 60434 SR\n\nhttps://lfuonline.uibk.ac.at/public/lfuonline_lv.details?sem_id_in=18W&lvnr_id_in=124471\n
CLASS:PUBLIC
DTSTART:20181011T151500Z
DTEND:20181011T164500Z
DTSTAMP:20260421T031120Z
LOCATION:60434 SR
END:VEVENT
BEGIN:VEVENT
UID:18W_124471_3222726@uibk.ac.at
ORGANIZER;CN="LFU:online Universität Innsbruck":MAILTO:Uni-Innsbruck-noreply@uibk.ac.at
SUMMARY:English: Communication Skills for MDs (Gruppe A) (LV 124471-0 18W)
DESCRIPTION:Lehrveranstaltung 124471 18W, Gruppe 0\nTitel: English: Communication Skills for MDs (Gruppe A)\nOrt: 60434 SR\n\nhttps://lfuonline.uibk.ac.at/public/lfuonline_lv.details?sem_id_in=18W&lvnr_id_in=124471\n
CLASS:PUBLIC
DTSTART:20181018T151500Z
DTEND:20181018T164500Z
DTSTAMP:20260421T031120Z
LOCATION:60434 SR
END:VEVENT
BEGIN:VEVENT
UID:18W_124471_3222727@uibk.ac.at
ORGANIZER;CN="LFU:online Universität Innsbruck":MAILTO:Uni-Innsbruck-noreply@uibk.ac.at
SUMMARY:English: Communication Skills for MDs (Gruppe A) (LV 124471-0 18W)
DESCRIPTION:Lehrveranstaltung 124471 18W, Gruppe 0\nTitel: English: Communication Skills for MDs (Gruppe A)\nOrt: 60434 SR\n\nhttps://lfuonline.uibk.ac.at/public/lfuonline_lv.details?sem_id_in=18W&lvnr_id_in=124471\n
CLASS:PUBLIC
DTSTART:20181025T151500Z
DTEND:20181025T164500Z
DTSTAMP:20260421T031120Z
LOCATION:60434 SR
END:VEVENT
BEGIN:VEVENT
UID:18W_124471_3222728@uibk.ac.at
ORGANIZER;CN="LFU:online Universität Innsbruck":MAILTO:Uni-Innsbruck-noreply@uibk.ac.at
SUMMARY:English: Communication Skills for MDs (Gruppe A) (LV 124471-0 18W)
DESCRIPTION:Lehrveranstaltung 124471 18W, Gruppe 0\nTitel: English: Communication Skills for MDs (Gruppe A)\nOrt: 60434 SR\n\nhttps://lfuonline.uibk.ac.at/public/lfuonline_lv.details?sem_id_in=18W&lvnr_id_in=124471\n
CLASS:PUBLIC
DTSTART:20181108T161500Z
DTEND:20181108T174500Z
DTSTAMP:20260421T031120Z
LOCATION:60434 SR
END:VEVENT
BEGIN:VEVENT
UID:18W_124471_3222729@uibk.ac.at
ORGANIZER;CN="LFU:online Universität Innsbruck":MAILTO:Uni-Innsbruck-noreply@uibk.ac.at
SUMMARY:English: Communication Skills for MDs (Gruppe A) (LV 124471-0 18W)
DESCRIPTION:Lehrveranstaltung 124471 18W, Gruppe 0\nTitel: English: Communication Skills for MDs (Gruppe A)\nOrt: 60434 SR\n\nhttps://lfuonline.uibk.ac.at/public/lfuonline_lv.details?sem_id_in=18W&lvnr_id_in=124471\n
CLASS:PUBLIC
DTSTART:20181115T161500Z
DTEND:20181115T174500Z
DTSTAMP:20260421T031120Z
LOCATION:60434 SR
END:VEVENT
BEGIN:VEVENT
UID:18W_124471_3222730@uibk.ac.at
ORGANIZER;CN="LFU:online Universität Innsbruck":MAILTO:Uni-Innsbruck-noreply@uibk.ac.at
SUMMARY:English: Communication Skills for MDs (Gruppe A) (LV 124471-0 18W)
DESCRIPTION:Lehrveranstaltung 124471 18W, Gruppe 0\nTitel: English: Communication Skills for MDs (Gruppe A)\nOrt: 60434 SR\n\nhttps://lfuonline.uibk.ac.at/public/lfuonline_lv.details?sem_id_in=18W&lvnr_id_in=124471\n
CLASS:PUBLIC
DTSTART:20181122T161500Z
DTEND:20181122T174500Z
DTSTAMP:20260421T031120Z
LOCATION:60434 SR
END:VEVENT
BEGIN:VEVENT
UID:18W_124471_3222731@uibk.ac.at
ORGANIZER;CN="LFU:online Universität Innsbruck":MAILTO:Uni-Innsbruck-noreply@uibk.ac.at
SUMMARY:English: Communication Skills for MDs (Gruppe A) (LV 124471-0 18W)
DESCRIPTION:Lehrveranstaltung 124471 18W, Gruppe 0\nTitel: English: Communication Skills for MDs (Gruppe A)\nOrt: 60434 SR\n\nhttps://lfuonline.uibk.ac.at/public/lfuonline_lv.details?sem_id_in=18W&lvnr_id_in=124471\n
CLASS:PUBLIC
DTSTART:20181129T161500Z
DTEND:20181129T174500Z
DTSTAMP:20260421T031120Z
LOCATION:60434 SR
END:VEVENT
BEGIN:VEVENT
UID:18W_124471_3222732@uibk.ac.at
ORGANIZER;CN="LFU:online Universität Innsbruck":MAILTO:Uni-Innsbruck-noreply@uibk.ac.at
SUMMARY:English: Communication Skills for MDs (Gruppe A) (LV 124471-0 18W)
DESCRIPTION:Lehrveranstaltung 124471 18W, Gruppe 0\nTitel: English: Communication Skills for MDs (Gruppe A)\nOrt: 60434 SR\n\nhttps://lfuonline.uibk.ac.at/public/lfuonline_lv.details?sem_id_in=18W&lvnr_id_in=124471\n
CLASS:PUBLIC
DTSTART:20181206T161500Z
DTEND:20181206T174500Z
DTSTAMP:20260421T031120Z
LOCATION:60434 SR
END:VEVENT
BEGIN:VEVENT
UID:18W_124471_3222733@uibk.ac.at
ORGANIZER;CN="LFU:online Universität Innsbruck":MAILTO:Uni-Innsbruck-noreply@uibk.ac.at
SUMMARY:English: Communication Skills for MDs (Gruppe A) (LV 124471-0 18W)
DESCRIPTION:Lehrveranstaltung 124471 18W, Gruppe 0\nTitel: English: Communication Skills for MDs (Gruppe A)\nOrt: 60434 SR\n\nhttps://lfuonline.uibk.ac.at/public/lfuonline_lv.details?sem_id_in=18W&lvnr_id_in=124471\n
CLASS:PUBLIC
DTSTART:20181213T161500Z
DTEND:20181213T174500Z
DTSTAMP:20260421T031120Z
LOCATION:60434 SR
END:VEVENT
BEGIN:VEVENT
UID:18W_124471_3222734@uibk.ac.at
ORGANIZER;CN="LFU:online Universität Innsbruck":MAILTO:Uni-Innsbruck-noreply@uibk.ac.at
SUMMARY:English: Communication Skills for MDs (Gruppe A) (LV 124471-0 18W)
DESCRIPTION:Lehrveranstaltung 124471 18W, Gruppe 0\nTitel: English: Communication Skills for MDs (Gruppe A)\nOrt: 60434 SR\n\nhttps://lfuonline.uibk.ac.at/public/lfuonline_lv.details?sem_id_in=18W&lvnr_id_in=124471\n
CLASS:PUBLIC
DTSTART:20190110T161500Z
DTEND:20190110T174500Z
DTSTAMP:20260421T031120Z
LOCATION:60434 SR
END:VEVENT
BEGIN:VEVENT
UID:18W_124471_3222735@uibk.ac.at
ORGANIZER;CN="LFU:online Universität Innsbruck":MAILTO:Uni-Innsbruck-noreply@uibk.ac.at
SUMMARY:English: Communication Skills for MDs (Gruppe A) (LV 124471-0 18W)
DESCRIPTION:Lehrveranstaltung 124471 18W, Gruppe 0\nTitel: English: Communication Skills for MDs (Gruppe A)\nOrt: 60434 SR\n\nhttps://lfuonline.uibk.ac.at/public/lfuonline_lv.details?sem_id_in=18W&lvnr_id_in=124471\n
CLASS:PUBLIC
DTSTART:20190117T161500Z
DTEND:20190117T174500Z
DTSTAMP:20260421T031120Z
LOCATION:60434 SR
END:VEVENT
BEGIN:VEVENT
UID:18W_124471_3222736@uibk.ac.at
ORGANIZER;CN="LFU:online Universität Innsbruck":MAILTO:Uni-Innsbruck-noreply@uibk.ac.at
SUMMARY:English: Communication Skills for MDs (Gruppe A) (LV 124471-0 18W)
DESCRIPTION:Lehrveranstaltung 124471 18W, Gruppe 0\nTitel: English: Communication Skills for MDs (Gruppe A)\nOrt: 60434 SR\n\nhttps://lfuonline.uibk.ac.at/public/lfuonline_lv.details?sem_id_in=18W&lvnr_id_in=124471\n
CLASS:PUBLIC
DTSTART:20190124T161500Z
DTEND:20190124T174500Z
DTSTAMP:20260421T031120Z
LOCATION:60434 SR
END:VEVENT
BEGIN:VEVENT
UID:18W_124471_3222737@uibk.ac.at
ORGANIZER;CN="LFU:online Universität Innsbruck":MAILTO:Uni-Innsbruck-noreply@uibk.ac.at
SUMMARY:English: Communication Skills for MDs (Gruppe A) (LV 124471-0 18W)
DESCRIPTION:Lehrveranstaltung 124471 18W, Gruppe 0\nTitel: English: Communication Skills for MDs (Gruppe A)\nOrt: 60434 SR\n\nhttps://lfuonline.uibk.ac.at/public/lfuonline_lv.details?sem_id_in=18W&lvnr_id_in=124471\n
CLASS:PUBLIC
DTSTART:20190131T161500Z
DTEND:20190131T174500Z
DTSTAMP:20260421T031120Z
LOCATION:60434 SR
END:VEVENT
END:VCALENDAR