BEGIN:VCALENDAR
VERSION:2.0
PRODID:-//Universität Innsbruck//LFU:online//DE
METHOD:PUBLISH
BEGIN:VEVENT
UID:24S_434261_4480824@uibk.ac.at
ORGANIZER;CN="LFU:online Universität Innsbruck":MAILTO:Uni-Innsbruck-noreply@uibk.ac.at
SUMMARY:SE Behavioral Finance (LV 434261-0 24S)
DESCRIPTION:Lehrveranstaltung 434261 24S, Gruppe 0\nTitel: SE Behavioral Finance\nOrt: SR  3 (Sowi)\n\nhttps://lfuonline.uibk.ac.at/public/lfuonline_lv.details?sem_id_in=24S&lvnr_id_in=434261\n
CLASS:PUBLIC
DTSTART:20240307T084500Z
DTEND:20240307T101500Z
DTSTAMP:20260420T173913Z
LOCATION:SR  3 (Sowi)
END:VEVENT
BEGIN:VEVENT
UID:24S_434261_4480825@uibk.ac.at
ORGANIZER;CN="LFU:online Universität Innsbruck":MAILTO:Uni-Innsbruck-noreply@uibk.ac.at
SUMMARY:SE Behavioral Finance (LV 434261-0 24S)
DESCRIPTION:Lehrveranstaltung 434261 24S, Gruppe 0\nTitel: SE Behavioral Finance\nOrt: SR  3 (Sowi)\n\nhttps://lfuonline.uibk.ac.at/public/lfuonline_lv.details?sem_id_in=24S&lvnr_id_in=434261\n
CLASS:PUBLIC
DTSTART:20240314T084500Z
DTEND:20240314T101500Z
DTSTAMP:20260420T173913Z
LOCATION:SR  3 (Sowi)
END:VEVENT
BEGIN:VEVENT
UID:24S_434261_4480826@uibk.ac.at
ORGANIZER;CN="LFU:online Universität Innsbruck":MAILTO:Uni-Innsbruck-noreply@uibk.ac.at
SUMMARY:SE Behavioral Finance (LV 434261-0 24S)
DESCRIPTION:Lehrveranstaltung 434261 24S, Gruppe 0\nTitel: SE Behavioral Finance\nOrt: SR  3 (Sowi)\n\nhttps://lfuonline.uibk.ac.at/public/lfuonline_lv.details?sem_id_in=24S&lvnr_id_in=434261\n
CLASS:PUBLIC
DTSTART:20240321T084500Z
DTEND:20240321T101500Z
DTSTAMP:20260420T173913Z
LOCATION:SR  3 (Sowi)
END:VEVENT
BEGIN:VEVENT
UID:24S_434261_4480827@uibk.ac.at
ORGANIZER;CN="LFU:online Universität Innsbruck":MAILTO:Uni-Innsbruck-noreply@uibk.ac.at
SUMMARY:SE Behavioral Finance (LV 434261-0 24S)
DESCRIPTION:Lehrveranstaltung 434261 24S, Gruppe 0\nTitel: SE Behavioral Finance\nOrt: SR  3 (Sowi)\n\nhttps://lfuonline.uibk.ac.at/public/lfuonline_lv.details?sem_id_in=24S&lvnr_id_in=434261\n
CLASS:PUBLIC
DTSTART:20240411T074500Z
DTEND:20240411T091500Z
DTSTAMP:20260420T173913Z
LOCATION:SR  3 (Sowi)
END:VEVENT
BEGIN:VEVENT
UID:24S_434261_4480828@uibk.ac.at
ORGANIZER;CN="LFU:online Universität Innsbruck":MAILTO:Uni-Innsbruck-noreply@uibk.ac.at
SUMMARY:SE Behavioral Finance (LV 434261-0 24S)
DESCRIPTION:Lehrveranstaltung 434261 24S, Gruppe 0\nTitel: SE Behavioral Finance\nOrt: SR  3 (Sowi)\n\nhttps://lfuonline.uibk.ac.at/public/lfuonline_lv.details?sem_id_in=24S&lvnr_id_in=434261\n
CLASS:PUBLIC
DTSTART:20240418T074500Z
DTEND:20240418T091500Z
DTSTAMP:20260420T173913Z
LOCATION:SR  3 (Sowi)
END:VEVENT
BEGIN:VEVENT
UID:24S_434261_4480829@uibk.ac.at
ORGANIZER;CN="LFU:online Universität Innsbruck":MAILTO:Uni-Innsbruck-noreply@uibk.ac.at
SUMMARY:SE Behavioral Finance (LV 434261-0 24S)
DESCRIPTION:Lehrveranstaltung 434261 24S, Gruppe 0\nTitel: SE Behavioral Finance\nOrt: SR  3 (Sowi)\n\nhttps://lfuonline.uibk.ac.at/public/lfuonline_lv.details?sem_id_in=24S&lvnr_id_in=434261\n
CLASS:PUBLIC
DTSTART:20240425T074500Z
DTEND:20240425T091500Z
DTSTAMP:20260420T173913Z
LOCATION:SR  3 (Sowi)
END:VEVENT
BEGIN:VEVENT
UID:24S_434261_4480830@uibk.ac.at
ORGANIZER;CN="LFU:online Universität Innsbruck":MAILTO:Uni-Innsbruck-noreply@uibk.ac.at
SUMMARY:SE Behavioral Finance (LV 434261-0 24S)
DESCRIPTION:Lehrveranstaltung 434261 24S, Gruppe 0\nTitel: SE Behavioral Finance\nOrt: SR  3 (Sowi)\n\nhttps://lfuonline.uibk.ac.at/public/lfuonline_lv.details?sem_id_in=24S&lvnr_id_in=434261\n
CLASS:PUBLIC
DTSTART:20240502T074500Z
DTEND:20240502T091500Z
DTSTAMP:20260420T173913Z
LOCATION:SR  3 (Sowi)
END:VEVENT
BEGIN:VEVENT
UID:24S_434261_4480831@uibk.ac.at
ORGANIZER;CN="LFU:online Universität Innsbruck":MAILTO:Uni-Innsbruck-noreply@uibk.ac.at
SUMMARY:SE Behavioral Finance (LV 434261-0 24S)
DESCRIPTION:Lehrveranstaltung 434261 24S, Gruppe 0\nTitel: SE Behavioral Finance\nOrt: SR  3 (Sowi)\n\nhttps://lfuonline.uibk.ac.at/public/lfuonline_lv.details?sem_id_in=24S&lvnr_id_in=434261\n
CLASS:PUBLIC
DTSTART:20240516T074500Z
DTEND:20240516T091500Z
DTSTAMP:20260420T173913Z
LOCATION:SR  3 (Sowi)
END:VEVENT
BEGIN:VEVENT
UID:24S_434261_4480832@uibk.ac.at
ORGANIZER;CN="LFU:online Universität Innsbruck":MAILTO:Uni-Innsbruck-noreply@uibk.ac.at
SUMMARY:SE Behavioral Finance (LV 434261-0 24S)
DESCRIPTION:Lehrveranstaltung 434261 24S, Gruppe 0\nTitel: SE Behavioral Finance\nOrt: SR  3 (Sowi)\n\nhttps://lfuonline.uibk.ac.at/public/lfuonline_lv.details?sem_id_in=24S&lvnr_id_in=434261\n
CLASS:PUBLIC
DTSTART:20240523T074500Z
DTEND:20240523T091500Z
DTSTAMP:20260420T173913Z
LOCATION:SR  3 (Sowi)
END:VEVENT
BEGIN:VEVENT
UID:24S_434261_4480833@uibk.ac.at
ORGANIZER;CN="LFU:online Universität Innsbruck":MAILTO:Uni-Innsbruck-noreply@uibk.ac.at
SUMMARY:SE Behavioral Finance (LV 434261-0 24S)
DESCRIPTION:Lehrveranstaltung 434261 24S, Gruppe 0\nTitel: SE Behavioral Finance\nOrt: SR  3 (Sowi)\n\nhttps://lfuonline.uibk.ac.at/public/lfuonline_lv.details?sem_id_in=24S&lvnr_id_in=434261\n
CLASS:PUBLIC
DTSTART:20240606T074500Z
DTEND:20240606T091500Z
DTSTAMP:20260420T173913Z
LOCATION:SR  3 (Sowi)
END:VEVENT
BEGIN:VEVENT
UID:24S_434261_4480834@uibk.ac.at
ORGANIZER;CN="LFU:online Universität Innsbruck":MAILTO:Uni-Innsbruck-noreply@uibk.ac.at
SUMMARY:SE Behavioral Finance (LV 434261-0 24S)
DESCRIPTION:Lehrveranstaltung 434261 24S, Gruppe 0\nTitel: SE Behavioral Finance\nOrt: SR  3 (Sowi)\n\nhttps://lfuonline.uibk.ac.at/public/lfuonline_lv.details?sem_id_in=24S&lvnr_id_in=434261\n
CLASS:PUBLIC
DTSTART:20240613T074500Z
DTEND:20240613T091500Z
DTSTAMP:20260420T173913Z
LOCATION:SR  3 (Sowi)
END:VEVENT
BEGIN:VEVENT
UID:24S_434261_4480835@uibk.ac.at
ORGANIZER;CN="LFU:online Universität Innsbruck":MAILTO:Uni-Innsbruck-noreply@uibk.ac.at
SUMMARY:SE Behavioral Finance (LV 434261-0 24S)
DESCRIPTION:Lehrveranstaltung 434261 24S, Gruppe 0\nTitel: SE Behavioral Finance\nOrt: SR  3 (Sowi)\n\nhttps://lfuonline.uibk.ac.at/public/lfuonline_lv.details?sem_id_in=24S&lvnr_id_in=434261\n
CLASS:PUBLIC
DTSTART:20240620T074500Z
DTEND:20240620T091500Z
DTSTAMP:20260420T173913Z
LOCATION:SR  3 (Sowi)
END:VEVENT
BEGIN:VEVENT
UID:24S_434261_4480836@uibk.ac.at
ORGANIZER;CN="LFU:online Universität Innsbruck":MAILTO:Uni-Innsbruck-noreply@uibk.ac.at
SUMMARY:SE Behavioral Finance (LV 434261-0 24S)
DESCRIPTION:Lehrveranstaltung 434261 24S, Gruppe 0\nTitel: SE Behavioral Finance\nOrt: SR  3 (Sowi)\n\nhttps://lfuonline.uibk.ac.at/public/lfuonline_lv.details?sem_id_in=24S&lvnr_id_in=434261\n
CLASS:PUBLIC
DTSTART:20240627T074500Z
DTEND:20240627T091500Z
DTSTAMP:20260420T173913Z
LOCATION:SR  3 (Sowi)
END:VEVENT
END:VCALENDAR