BEGIN:VCALENDAR
VERSION:2.0
PRODID:-//Universität Innsbruck//LFU:online//DE
METHOD:PUBLISH
BEGIN:VEVENT
UID:18W_608602_3174574@uibk.ac.at
ORGANIZER;CN="LFU:online Universität Innsbruck":MAILTO:Uni-Innsbruck-noreply@uibk.ac.at
SUMMARY:Didaktik und Methodik Deutsch als Fremd- und Zweitsprache: Grundlagen (LV 608602-0 18W)
DESCRIPTION:Lehrveranstaltung 608602 18W, Gruppe 0\nTitel: Didaktik und Methodik Deutsch als Fremd- und Zweitsprache: Grundlagen\nOrt: 50105/2 SR\n\nhttps://lfuonline.uibk.ac.at/public/lfuonline_lv.details?sem_id_in=18W&lvnr_id_in=608602\n
CLASS:PUBLIC
DTSTART:20181001T133000Z
DTEND:20181001T150000Z
DTSTAMP:20260421T000818Z
LOCATION:50105/2 SR
END:VEVENT
BEGIN:VEVENT
UID:18W_608602_3174575@uibk.ac.at
ORGANIZER;CN="LFU:online Universität Innsbruck":MAILTO:Uni-Innsbruck-noreply@uibk.ac.at
SUMMARY:Didaktik und Methodik Deutsch als Fremd- und Zweitsprache: Grundlagen (LV 608602-0 18W)
DESCRIPTION:Lehrveranstaltung 608602 18W, Gruppe 0\nTitel: Didaktik und Methodik Deutsch als Fremd- und Zweitsprache: Grundlagen\nOrt: 50105/2 SR\n\nhttps://lfuonline.uibk.ac.at/public/lfuonline_lv.details?sem_id_in=18W&lvnr_id_in=608602\n
CLASS:PUBLIC
DTSTART:20181008T133000Z
DTEND:20181008T150000Z
DTSTAMP:20260421T000818Z
LOCATION:50105/2 SR
END:VEVENT
BEGIN:VEVENT
UID:18W_608602_3174576@uibk.ac.at
ORGANIZER;CN="LFU:online Universität Innsbruck":MAILTO:Uni-Innsbruck-noreply@uibk.ac.at
SUMMARY:Didaktik und Methodik Deutsch als Fremd- und Zweitsprache: Grundlagen (LV 608602-0 18W)
DESCRIPTION:Lehrveranstaltung 608602 18W, Gruppe 0\nTitel: Didaktik und Methodik Deutsch als Fremd- und Zweitsprache: Grundlagen\nOrt: 50105/2 SR\n\nhttps://lfuonline.uibk.ac.at/public/lfuonline_lv.details?sem_id_in=18W&lvnr_id_in=608602\n
CLASS:PUBLIC
DTSTART:20181015T133000Z
DTEND:20181015T150000Z
DTSTAMP:20260421T000818Z
LOCATION:50105/2 SR
END:VEVENT
BEGIN:VEVENT
UID:18W_608602_3174577@uibk.ac.at
ORGANIZER;CN="LFU:online Universität Innsbruck":MAILTO:Uni-Innsbruck-noreply@uibk.ac.at
SUMMARY:Didaktik und Methodik Deutsch als Fremd- und Zweitsprache: Grundlagen (LV 608602-0 18W)
DESCRIPTION:Lehrveranstaltung 608602 18W, Gruppe 0\nTitel: Didaktik und Methodik Deutsch als Fremd- und Zweitsprache: Grundlagen\nOrt: 50105/2 SR\n\nhttps://lfuonline.uibk.ac.at/public/lfuonline_lv.details?sem_id_in=18W&lvnr_id_in=608602\n
CLASS:PUBLIC
DTSTART:20181022T133000Z
DTEND:20181022T150000Z
DTSTAMP:20260421T000818Z
LOCATION:50105/2 SR
END:VEVENT
BEGIN:VEVENT
UID:18W_608602_3174578@uibk.ac.at
ORGANIZER;CN="LFU:online Universität Innsbruck":MAILTO:Uni-Innsbruck-noreply@uibk.ac.at
SUMMARY:Didaktik und Methodik Deutsch als Fremd- und Zweitsprache: Grundlagen (LV 608602-0 18W)
DESCRIPTION:Lehrveranstaltung 608602 18W, Gruppe 0\nTitel: Didaktik und Methodik Deutsch als Fremd- und Zweitsprache: Grundlagen\nOrt: 50105/2 SR\n\nhttps://lfuonline.uibk.ac.at/public/lfuonline_lv.details?sem_id_in=18W&lvnr_id_in=608602\n
CLASS:PUBLIC
DTSTART:20181029T143000Z
DTEND:20181029T160000Z
DTSTAMP:20260421T000818Z
LOCATION:50105/2 SR
END:VEVENT
BEGIN:VEVENT
UID:18W_608602_3174579@uibk.ac.at
ORGANIZER;CN="LFU:online Universität Innsbruck":MAILTO:Uni-Innsbruck-noreply@uibk.ac.at
SUMMARY:Didaktik und Methodik Deutsch als Fremd- und Zweitsprache: Grundlagen (LV 608602-0 18W)
DESCRIPTION:Lehrveranstaltung 608602 18W, Gruppe 0\nTitel: Didaktik und Methodik Deutsch als Fremd- und Zweitsprache: Grundlagen\nOrt: 50105/2 SR\n\nhttps://lfuonline.uibk.ac.at/public/lfuonline_lv.details?sem_id_in=18W&lvnr_id_in=608602\n
CLASS:PUBLIC
DTSTART:20181105T143000Z
DTEND:20181105T160000Z
DTSTAMP:20260421T000818Z
LOCATION:50105/2 SR
END:VEVENT
BEGIN:VEVENT
UID:18W_608602_3174580@uibk.ac.at
ORGANIZER;CN="LFU:online Universität Innsbruck":MAILTO:Uni-Innsbruck-noreply@uibk.ac.at
SUMMARY:Didaktik und Methodik Deutsch als Fremd- und Zweitsprache: Grundlagen (LV 608602-0 18W)
DESCRIPTION:Lehrveranstaltung 608602 18W, Gruppe 0\nTitel: Didaktik und Methodik Deutsch als Fremd- und Zweitsprache: Grundlagen\nOrt: 50105/2 SR\n\nhttps://lfuonline.uibk.ac.at/public/lfuonline_lv.details?sem_id_in=18W&lvnr_id_in=608602\n
CLASS:PUBLIC
DTSTART:20181112T143000Z
DTEND:20181112T160000Z
DTSTAMP:20260421T000818Z
LOCATION:50105/2 SR
END:VEVENT
BEGIN:VEVENT
UID:18W_608602_3174581@uibk.ac.at
ORGANIZER;CN="LFU:online Universität Innsbruck":MAILTO:Uni-Innsbruck-noreply@uibk.ac.at
SUMMARY:Didaktik und Methodik Deutsch als Fremd- und Zweitsprache: Grundlagen (LV 608602-0 18W)
DESCRIPTION:Lehrveranstaltung 608602 18W, Gruppe 0\nTitel: Didaktik und Methodik Deutsch als Fremd- und Zweitsprache: Grundlagen\nOrt: 50105/2 SR\n\nhttps://lfuonline.uibk.ac.at/public/lfuonline_lv.details?sem_id_in=18W&lvnr_id_in=608602\n
CLASS:PUBLIC
DTSTART:20181119T143000Z
DTEND:20181119T160000Z
DTSTAMP:20260421T000818Z
LOCATION:50105/2 SR
END:VEVENT
BEGIN:VEVENT
UID:18W_608602_3174582@uibk.ac.at
ORGANIZER;CN="LFU:online Universität Innsbruck":MAILTO:Uni-Innsbruck-noreply@uibk.ac.at
SUMMARY:Didaktik und Methodik Deutsch als Fremd- und Zweitsprache: Grundlagen (LV 608602-0 18W)
DESCRIPTION:Lehrveranstaltung 608602 18W, Gruppe 0\nTitel: Didaktik und Methodik Deutsch als Fremd- und Zweitsprache: Grundlagen\nOrt: 50105/2 SR\n\nhttps://lfuonline.uibk.ac.at/public/lfuonline_lv.details?sem_id_in=18W&lvnr_id_in=608602\n
CLASS:PUBLIC
DTSTART:20181126T143000Z
DTEND:20181126T160000Z
DTSTAMP:20260421T000818Z
LOCATION:50105/2 SR
END:VEVENT
BEGIN:VEVENT
UID:18W_608602_3174583@uibk.ac.at
ORGANIZER;CN="LFU:online Universität Innsbruck":MAILTO:Uni-Innsbruck-noreply@uibk.ac.at
SUMMARY:Didaktik und Methodik Deutsch als Fremd- und Zweitsprache: Grundlagen (LV 608602-0 18W)
DESCRIPTION:Lehrveranstaltung 608602 18W, Gruppe 0\nTitel: Didaktik und Methodik Deutsch als Fremd- und Zweitsprache: Grundlagen\nOrt: 50105/2 SR\n\nhttps://lfuonline.uibk.ac.at/public/lfuonline_lv.details?sem_id_in=18W&lvnr_id_in=608602\n
CLASS:PUBLIC
DTSTART:20181203T143000Z
DTEND:20181203T160000Z
DTSTAMP:20260421T000818Z
LOCATION:50105/2 SR
END:VEVENT
BEGIN:VEVENT
UID:18W_608602_3174584@uibk.ac.at
ORGANIZER;CN="LFU:online Universität Innsbruck":MAILTO:Uni-Innsbruck-noreply@uibk.ac.at
SUMMARY:Didaktik und Methodik Deutsch als Fremd- und Zweitsprache: Grundlagen (LV 608602-0 18W)
DESCRIPTION:Lehrveranstaltung 608602 18W, Gruppe 0\nTitel: Didaktik und Methodik Deutsch als Fremd- und Zweitsprache: Grundlagen\nOrt: 50105/2 SR\n\nhttps://lfuonline.uibk.ac.at/public/lfuonline_lv.details?sem_id_in=18W&lvnr_id_in=608602\n
CLASS:PUBLIC
DTSTART:20181210T143000Z
DTEND:20181210T160000Z
DTSTAMP:20260421T000818Z
LOCATION:50105/2 SR
END:VEVENT
BEGIN:VEVENT
UID:18W_608602_3174585@uibk.ac.at
ORGANIZER;CN="LFU:online Universität Innsbruck":MAILTO:Uni-Innsbruck-noreply@uibk.ac.at
SUMMARY:Didaktik und Methodik Deutsch als Fremd- und Zweitsprache: Grundlagen (LV 608602-0 18W)
DESCRIPTION:Lehrveranstaltung 608602 18W, Gruppe 0\nTitel: Didaktik und Methodik Deutsch als Fremd- und Zweitsprache: Grundlagen\nOrt: 50105/2 SR\n\nhttps://lfuonline.uibk.ac.at/public/lfuonline_lv.details?sem_id_in=18W&lvnr_id_in=608602\n
CLASS:PUBLIC
DTSTART:20190107T143000Z
DTEND:20190107T160000Z
DTSTAMP:20260421T000818Z
LOCATION:50105/2 SR
END:VEVENT
BEGIN:VEVENT
UID:18W_608602_3174586@uibk.ac.at
ORGANIZER;CN="LFU:online Universität Innsbruck":MAILTO:Uni-Innsbruck-noreply@uibk.ac.at
SUMMARY:Didaktik und Methodik Deutsch als Fremd- und Zweitsprache: Grundlagen (LV 608602-0 18W)
DESCRIPTION:Lehrveranstaltung 608602 18W, Gruppe 0\nTitel: Didaktik und Methodik Deutsch als Fremd- und Zweitsprache: Grundlagen\nOrt: 50105/2 SR\n\nhttps://lfuonline.uibk.ac.at/public/lfuonline_lv.details?sem_id_in=18W&lvnr_id_in=608602\n
CLASS:PUBLIC
DTSTART:20190114T143000Z
DTEND:20190114T160000Z
DTSTAMP:20260421T000818Z
LOCATION:50105/2 SR
END:VEVENT
BEGIN:VEVENT
UID:18W_608602_3174587@uibk.ac.at
ORGANIZER;CN="LFU:online Universität Innsbruck":MAILTO:Uni-Innsbruck-noreply@uibk.ac.at
SUMMARY:Didaktik und Methodik Deutsch als Fremd- und Zweitsprache: Grundlagen (LV 608602-0 18W)
DESCRIPTION:Lehrveranstaltung 608602 18W, Gruppe 0\nTitel: Didaktik und Methodik Deutsch als Fremd- und Zweitsprache: Grundlagen\nOrt: 50105/2 SR\n\nhttps://lfuonline.uibk.ac.at/public/lfuonline_lv.details?sem_id_in=18W&lvnr_id_in=608602\n
CLASS:PUBLIC
DTSTART:20190121T143000Z
DTEND:20190121T160000Z
DTSTAMP:20260421T000818Z
LOCATION:50105/2 SR
END:VEVENT
BEGIN:VEVENT
UID:18W_608602_3174588@uibk.ac.at
ORGANIZER;CN="LFU:online Universität Innsbruck":MAILTO:Uni-Innsbruck-noreply@uibk.ac.at
SUMMARY:Didaktik und Methodik Deutsch als Fremd- und Zweitsprache: Grundlagen (LV 608602-0 18W)
DESCRIPTION:Lehrveranstaltung 608602 18W, Gruppe 0\nTitel: Didaktik und Methodik Deutsch als Fremd- und Zweitsprache: Grundlagen\nOrt: 50105/2 SR\n\nhttps://lfuonline.uibk.ac.at/public/lfuonline_lv.details?sem_id_in=18W&lvnr_id_in=608602\n
CLASS:PUBLIC
DTSTART:20190128T143000Z
DTEND:20190128T160000Z
DTSTAMP:20260421T000818Z
LOCATION:50105/2 SR
END:VEVENT
END:VCALENDAR