BEGIN:VCALENDAR
VERSION:2.0
PRODID:-//Universität Innsbruck//LFU:online//DE
METHOD:PUBLISH
BEGIN:VEVENT
UID:24S_608733_4476563@uibk.ac.at
ORGANIZER;CN="LFU:online Universität Innsbruck":MAILTO:Uni-Innsbruck-noreply@uibk.ac.at
SUMMARY:SE Vertiefung Germanistik: Mediävistik: Lied und lyrische Dichtung des Spätmittelalters (LV 608733-0 24S)
DESCRIPTION:Lehrveranstaltung 608733 24S, Gruppe 0\nTitel: SE Vertiefung Germanistik: Mediävistik: Lied und lyrische Dichtung des Spätmittelalters\nOrt: 40901 SR\n\nhttps://lfuonline.uibk.ac.at/public/lfuonline_lv.details?sem_id_in=24S&lvnr_id_in=608733\n
CLASS:PUBLIC
DTSTART:20240307T124500Z
DTEND:20240307T141500Z
DTSTAMP:20260419T143918Z
LOCATION:40901 SR
END:VEVENT
BEGIN:VEVENT
UID:24S_608733_4476564@uibk.ac.at
ORGANIZER;CN="LFU:online Universität Innsbruck":MAILTO:Uni-Innsbruck-noreply@uibk.ac.at
SUMMARY:SE Vertiefung Germanistik: Mediävistik: Lied und lyrische Dichtung des Spätmittelalters (LV 608733-0 24S)
DESCRIPTION:Lehrveranstaltung 608733 24S, Gruppe 0\nTitel: SE Vertiefung Germanistik: Mediävistik: Lied und lyrische Dichtung des Spätmittelalters\nOrt: 40935 SR\n\nhttps://lfuonline.uibk.ac.at/public/lfuonline_lv.details?sem_id_in=24S&lvnr_id_in=608733\n
CLASS:PUBLIC
DTSTART:20240314T124500Z
DTEND:20240314T141500Z
DTSTAMP:20260419T143918Z
LOCATION:40935 SR
END:VEVENT
BEGIN:VEVENT
UID:24S_608733_4476565@uibk.ac.at
ORGANIZER;CN="LFU:online Universität Innsbruck":MAILTO:Uni-Innsbruck-noreply@uibk.ac.at
SUMMARY:SE Vertiefung Germanistik: Mediävistik: Lied und lyrische Dichtung des Spätmittelalters (LV 608733-0 24S)
DESCRIPTION:Lehrveranstaltung 608733 24S, Gruppe 0\nTitel: SE Vertiefung Germanistik: Mediävistik: Lied und lyrische Dichtung des Spätmittelalters\nOrt: 40935 SR\n\nhttps://lfuonline.uibk.ac.at/public/lfuonline_lv.details?sem_id_in=24S&lvnr_id_in=608733\n
CLASS:PUBLIC
DTSTART:20240321T124500Z
DTEND:20240321T141500Z
DTSTAMP:20260419T143918Z
LOCATION:40935 SR
END:VEVENT
BEGIN:VEVENT
UID:24S_608733_4476566@uibk.ac.at
ORGANIZER;CN="LFU:online Universität Innsbruck":MAILTO:Uni-Innsbruck-noreply@uibk.ac.at
SUMMARY:SE Vertiefung Germanistik: Mediävistik: Lied und lyrische Dichtung des Spätmittelalters (LV 608733-0 24S)
DESCRIPTION:Lehrveranstaltung 608733 24S, Gruppe 0\nTitel: SE Vertiefung Germanistik: Mediävistik: Lied und lyrische Dichtung des Spätmittelalters\nOrt: 40935 SR\n\nhttps://lfuonline.uibk.ac.at/public/lfuonline_lv.details?sem_id_in=24S&lvnr_id_in=608733\n
CLASS:PUBLIC
DTSTART:20240411T114500Z
DTEND:20240411T131500Z
DTSTAMP:20260419T143918Z
LOCATION:40935 SR
END:VEVENT
BEGIN:VEVENT
UID:24S_608733_4476567@uibk.ac.at
ORGANIZER;CN="LFU:online Universität Innsbruck":MAILTO:Uni-Innsbruck-noreply@uibk.ac.at
SUMMARY:SE Vertiefung Germanistik: Mediävistik: Lied und lyrische Dichtung des Spätmittelalters (LV 608733-0 24S)
DESCRIPTION:Lehrveranstaltung 608733 24S, Gruppe 0\nTitel: SE Vertiefung Germanistik: Mediävistik: Lied und lyrische Dichtung des Spätmittelalters\nOrt: 40935 SR\n\nhttps://lfuonline.uibk.ac.at/public/lfuonline_lv.details?sem_id_in=24S&lvnr_id_in=608733\n
CLASS:PUBLIC
DTSTART:20240418T114500Z
DTEND:20240418T131500Z
DTSTAMP:20260419T143918Z
LOCATION:40935 SR
END:VEVENT
BEGIN:VEVENT
UID:24S_608733_4476568@uibk.ac.at
ORGANIZER;CN="LFU:online Universität Innsbruck":MAILTO:Uni-Innsbruck-noreply@uibk.ac.at
SUMMARY:SE Vertiefung Germanistik: Mediävistik: Lied und lyrische Dichtung des Spätmittelalters (LV 608733-0 24S)
DESCRIPTION:Lehrveranstaltung 608733 24S, Gruppe 0\nTitel: SE Vertiefung Germanistik: Mediävistik: Lied und lyrische Dichtung des Spätmittelalters\nOrt: 40935 SR\n\nhttps://lfuonline.uibk.ac.at/public/lfuonline_lv.details?sem_id_in=24S&lvnr_id_in=608733\n
CLASS:PUBLIC
DTSTART:20240425T114500Z
DTEND:20240425T131500Z
DTSTAMP:20260419T143918Z
LOCATION:40935 SR
END:VEVENT
BEGIN:VEVENT
UID:24S_608733_4476569@uibk.ac.at
ORGANIZER;CN="LFU:online Universität Innsbruck":MAILTO:Uni-Innsbruck-noreply@uibk.ac.at
SUMMARY:SE Vertiefung Germanistik: Mediävistik: Lied und lyrische Dichtung des Spätmittelalters (LV 608733-0 24S)
DESCRIPTION:Lehrveranstaltung 608733 24S, Gruppe 0\nTitel: SE Vertiefung Germanistik: Mediävistik: Lied und lyrische Dichtung des Spätmittelalters\nOrt: 40935 SR\n\nhttps://lfuonline.uibk.ac.at/public/lfuonline_lv.details?sem_id_in=24S&lvnr_id_in=608733\n
CLASS:PUBLIC
DTSTART:20240502T114500Z
DTEND:20240502T131500Z
DTSTAMP:20260419T143918Z
LOCATION:40935 SR
END:VEVENT
BEGIN:VEVENT
UID:24S_608733_4476570@uibk.ac.at
ORGANIZER;CN="LFU:online Universität Innsbruck":MAILTO:Uni-Innsbruck-noreply@uibk.ac.at
SUMMARY:SE Vertiefung Germanistik: Mediävistik: Lied und lyrische Dichtung des Spätmittelalters (LV 608733-0 24S)
DESCRIPTION:Lehrveranstaltung 608733 24S, Gruppe 0\nTitel: SE Vertiefung Germanistik: Mediävistik: Lied und lyrische Dichtung des Spätmittelalters\nOrt: 40935 SR\n\nhttps://lfuonline.uibk.ac.at/public/lfuonline_lv.details?sem_id_in=24S&lvnr_id_in=608733\n
CLASS:PUBLIC
DTSTART:20240516T114500Z
DTEND:20240516T131500Z
DTSTAMP:20260419T143918Z
LOCATION:40935 SR
END:VEVENT
BEGIN:VEVENT
UID:24S_608733_4476571@uibk.ac.at
ORGANIZER;CN="LFU:online Universität Innsbruck":MAILTO:Uni-Innsbruck-noreply@uibk.ac.at
SUMMARY:SE Vertiefung Germanistik: Mediävistik: Lied und lyrische Dichtung des Spätmittelalters (LV 608733-0 24S)
DESCRIPTION:Lehrveranstaltung 608733 24S, Gruppe 0\nTitel: SE Vertiefung Germanistik: Mediävistik: Lied und lyrische Dichtung des Spätmittelalters\nOrt: 40935 SR\n\nhttps://lfuonline.uibk.ac.at/public/lfuonline_lv.details?sem_id_in=24S&lvnr_id_in=608733\n
CLASS:PUBLIC
DTSTART:20240523T114500Z
DTEND:20240523T131500Z
DTSTAMP:20260419T143918Z
LOCATION:40935 SR
END:VEVENT
BEGIN:VEVENT
UID:24S_608733_4476572@uibk.ac.at
ORGANIZER;CN="LFU:online Universität Innsbruck":MAILTO:Uni-Innsbruck-noreply@uibk.ac.at
SUMMARY:SE Vertiefung Germanistik: Mediävistik: Lied und lyrische Dichtung des Spätmittelalters (LV 608733-0 24S)
DESCRIPTION:Lehrveranstaltung 608733 24S, Gruppe 0\nTitel: SE Vertiefung Germanistik: Mediävistik: Lied und lyrische Dichtung des Spätmittelalters\nOrt: 40935 SR\n\nhttps://lfuonline.uibk.ac.at/public/lfuonline_lv.details?sem_id_in=24S&lvnr_id_in=608733\n
CLASS:PUBLIC
DTSTART:20240606T114500Z
DTEND:20240606T131500Z
DTSTAMP:20260419T143918Z
LOCATION:40935 SR
END:VEVENT
BEGIN:VEVENT
UID:24S_608733_4476573@uibk.ac.at
ORGANIZER;CN="LFU:online Universität Innsbruck":MAILTO:Uni-Innsbruck-noreply@uibk.ac.at
SUMMARY:SE Vertiefung Germanistik: Mediävistik: Lied und lyrische Dichtung des Spätmittelalters (LV 608733-0 24S)
DESCRIPTION:Lehrveranstaltung 608733 24S, Gruppe 0\nTitel: SE Vertiefung Germanistik: Mediävistik: Lied und lyrische Dichtung des Spätmittelalters\nOrt: 40935 SR\n\nhttps://lfuonline.uibk.ac.at/public/lfuonline_lv.details?sem_id_in=24S&lvnr_id_in=608733\n
CLASS:PUBLIC
DTSTART:20240613T114500Z
DTEND:20240613T131500Z
DTSTAMP:20260419T143918Z
LOCATION:40935 SR
END:VEVENT
BEGIN:VEVENT
UID:24S_608733_4476574@uibk.ac.at
ORGANIZER;CN="LFU:online Universität Innsbruck":MAILTO:Uni-Innsbruck-noreply@uibk.ac.at
SUMMARY:SE Vertiefung Germanistik: Mediävistik: Lied und lyrische Dichtung des Spätmittelalters (LV 608733-0 24S)
DESCRIPTION:Lehrveranstaltung 608733 24S, Gruppe 0\nTitel: SE Vertiefung Germanistik: Mediävistik: Lied und lyrische Dichtung des Spätmittelalters\nOrt: 40935 SR\n\nhttps://lfuonline.uibk.ac.at/public/lfuonline_lv.details?sem_id_in=24S&lvnr_id_in=608733\n
CLASS:PUBLIC
DTSTART:20240620T114500Z
DTEND:20240620T131500Z
DTSTAMP:20260419T143918Z
LOCATION:40935 SR
END:VEVENT
BEGIN:VEVENT
UID:24S_608733_4476575@uibk.ac.at
ORGANIZER;CN="LFU:online Universität Innsbruck":MAILTO:Uni-Innsbruck-noreply@uibk.ac.at
SUMMARY:SE Vertiefung Germanistik: Mediävistik: Lied und lyrische Dichtung des Spätmittelalters (LV 608733-0 24S)
DESCRIPTION:Lehrveranstaltung 608733 24S, Gruppe 0\nTitel: SE Vertiefung Germanistik: Mediävistik: Lied und lyrische Dichtung des Spätmittelalters\nOrt: 40935 SR\n\nhttps://lfuonline.uibk.ac.at/public/lfuonline_lv.details?sem_id_in=24S&lvnr_id_in=608733\n
CLASS:PUBLIC
DTSTART:20240627T114500Z
DTEND:20240627T131500Z
DTSTAMP:20260419T143918Z
LOCATION:40935 SR
END:VEVENT
END:VCALENDAR