BEGIN:VCALENDAR
VERSION:2.0
PRODID:-//Universität Innsbruck//LFU:online//DE
METHOD:PUBLISH
BEGIN:VEVENT
UID:18W_720011_3172962@uibk.ac.at
ORGANIZER;CN="LFU:online Universität Innsbruck":MAILTO:Uni-Innsbruck-noreply@uibk.ac.at
SUMMARY:Statistik III (LV 720011-0 18W)
DESCRIPTION:Lehrveranstaltung 720011 18W, Gruppe 0\nTitel: Statistik III\nOrt: Hörsaal 3\n\nhttps://lfuonline.uibk.ac.at/public/lfuonline_lv.details?sem_id_in=18W&lvnr_id_in=720011\n
CLASS:PUBLIC
DTSTART:20181001T114500Z
DTEND:20181001T131500Z
DTSTAMP:20260422T060428Z
LOCATION:Hörsaal 3
END:VEVENT
BEGIN:VEVENT
UID:18W_720011_3172963@uibk.ac.at
ORGANIZER;CN="LFU:online Universität Innsbruck":MAILTO:Uni-Innsbruck-noreply@uibk.ac.at
SUMMARY:Statistik III (LV 720011-0 18W)
DESCRIPTION:Lehrveranstaltung 720011 18W, Gruppe 0\nTitel: Statistik III\nOrt: Hörsaal 3\n\nhttps://lfuonline.uibk.ac.at/public/lfuonline_lv.details?sem_id_in=18W&lvnr_id_in=720011\n
CLASS:PUBLIC
DTSTART:20181008T114500Z
DTEND:20181008T131500Z
DTSTAMP:20260422T060428Z
LOCATION:Hörsaal 3
END:VEVENT
BEGIN:VEVENT
UID:18W_720011_3172964@uibk.ac.at
ORGANIZER;CN="LFU:online Universität Innsbruck":MAILTO:Uni-Innsbruck-noreply@uibk.ac.at
SUMMARY:Statistik III (LV 720011-0 18W)
DESCRIPTION:Lehrveranstaltung 720011 18W, Gruppe 0\nTitel: Statistik III\nOrt: Hörsaal 3\n\nhttps://lfuonline.uibk.ac.at/public/lfuonline_lv.details?sem_id_in=18W&lvnr_id_in=720011\n
CLASS:PUBLIC
DTSTART:20181015T114500Z
DTEND:20181015T131500Z
DTSTAMP:20260422T060428Z
LOCATION:Hörsaal 3
END:VEVENT
BEGIN:VEVENT
UID:18W_720011_3172965@uibk.ac.at
ORGANIZER;CN="LFU:online Universität Innsbruck":MAILTO:Uni-Innsbruck-noreply@uibk.ac.at
SUMMARY:Statistik III (LV 720011-0 18W)
DESCRIPTION:Lehrveranstaltung 720011 18W, Gruppe 0\nTitel: Statistik III\nOrt: Hörsaal 3\n\nhttps://lfuonline.uibk.ac.at/public/lfuonline_lv.details?sem_id_in=18W&lvnr_id_in=720011\n
CLASS:PUBLIC
DTSTART:20181022T114500Z
DTEND:20181022T131500Z
DTSTAMP:20260422T060428Z
LOCATION:Hörsaal 3
END:VEVENT
BEGIN:VEVENT
UID:18W_720011_3172966@uibk.ac.at
ORGANIZER;CN="LFU:online Universität Innsbruck":MAILTO:Uni-Innsbruck-noreply@uibk.ac.at
SUMMARY:Statistik III (LV 720011-0 18W)
DESCRIPTION:Lehrveranstaltung 720011 18W, Gruppe 0\nTitel: Statistik III\nOrt: Hörsaal 3\n\nhttps://lfuonline.uibk.ac.at/public/lfuonline_lv.details?sem_id_in=18W&lvnr_id_in=720011\n
CLASS:PUBLIC
DTSTART:20181029T124500Z
DTEND:20181029T141500Z
DTSTAMP:20260422T060428Z
LOCATION:Hörsaal 3
END:VEVENT
BEGIN:VEVENT
UID:18W_720011_3172967@uibk.ac.at
ORGANIZER;CN="LFU:online Universität Innsbruck":MAILTO:Uni-Innsbruck-noreply@uibk.ac.at
SUMMARY:Statistik III (LV 720011-0 18W)
DESCRIPTION:Lehrveranstaltung 720011 18W, Gruppe 0\nTitel: Statistik III\nOrt: Hörsaal 3\n\nhttps://lfuonline.uibk.ac.at/public/lfuonline_lv.details?sem_id_in=18W&lvnr_id_in=720011\n
CLASS:PUBLIC
DTSTART:20181105T124500Z
DTEND:20181105T141500Z
DTSTAMP:20260422T060428Z
LOCATION:Hörsaal 3
END:VEVENT
BEGIN:VEVENT
UID:18W_720011_3172968@uibk.ac.at
ORGANIZER;CN="LFU:online Universität Innsbruck":MAILTO:Uni-Innsbruck-noreply@uibk.ac.at
SUMMARY:Statistik III (LV 720011-0 18W)
DESCRIPTION:Lehrveranstaltung 720011 18W, Gruppe 0\nTitel: Statistik III\nOrt: Hörsaal 3\n\nhttps://lfuonline.uibk.ac.at/public/lfuonline_lv.details?sem_id_in=18W&lvnr_id_in=720011\n
CLASS:PUBLIC
DTSTART:20181112T124500Z
DTEND:20181112T141500Z
DTSTAMP:20260422T060428Z
LOCATION:Hörsaal 3
END:VEVENT
BEGIN:VEVENT
UID:18W_720011_3172969@uibk.ac.at
ORGANIZER;CN="LFU:online Universität Innsbruck":MAILTO:Uni-Innsbruck-noreply@uibk.ac.at
SUMMARY:Statistik III (LV 720011-0 18W)
DESCRIPTION:Lehrveranstaltung 720011 18W, Gruppe 0\nTitel: Statistik III\nOrt: Hörsaal 3\n\nhttps://lfuonline.uibk.ac.at/public/lfuonline_lv.details?sem_id_in=18W&lvnr_id_in=720011\n
CLASS:PUBLIC
DTSTART:20181119T124500Z
DTEND:20181119T141500Z
DTSTAMP:20260422T060428Z
LOCATION:Hörsaal 3
END:VEVENT
BEGIN:VEVENT
UID:18W_720011_3172970@uibk.ac.at
ORGANIZER;CN="LFU:online Universität Innsbruck":MAILTO:Uni-Innsbruck-noreply@uibk.ac.at
SUMMARY:Statistik III (LV 720011-0 18W)
DESCRIPTION:Lehrveranstaltung 720011 18W, Gruppe 0\nTitel: Statistik III\nOrt: Hörsaal 3\n\nhttps://lfuonline.uibk.ac.at/public/lfuonline_lv.details?sem_id_in=18W&lvnr_id_in=720011\n
CLASS:PUBLIC
DTSTART:20181126T124500Z
DTEND:20181126T141500Z
DTSTAMP:20260422T060428Z
LOCATION:Hörsaal 3
END:VEVENT
BEGIN:VEVENT
UID:18W_720011_3172971@uibk.ac.at
ORGANIZER;CN="LFU:online Universität Innsbruck":MAILTO:Uni-Innsbruck-noreply@uibk.ac.at
SUMMARY:Statistik III (LV 720011-0 18W)
DESCRIPTION:Lehrveranstaltung 720011 18W, Gruppe 0\nTitel: Statistik III\nOrt: Hörsaal 3\n\nhttps://lfuonline.uibk.ac.at/public/lfuonline_lv.details?sem_id_in=18W&lvnr_id_in=720011\n
CLASS:PUBLIC
DTSTART:20181203T124500Z
DTEND:20181203T141500Z
DTSTAMP:20260422T060428Z
LOCATION:Hörsaal 3
END:VEVENT
BEGIN:VEVENT
UID:18W_720011_3172972@uibk.ac.at
ORGANIZER;CN="LFU:online Universität Innsbruck":MAILTO:Uni-Innsbruck-noreply@uibk.ac.at
SUMMARY:Statistik III (LV 720011-0 18W)
DESCRIPTION:Lehrveranstaltung 720011 18W, Gruppe 0\nTitel: Statistik III\nOrt: Hörsaal 3\n\nhttps://lfuonline.uibk.ac.at/public/lfuonline_lv.details?sem_id_in=18W&lvnr_id_in=720011\n
CLASS:PUBLIC
DTSTART:20181210T124500Z
DTEND:20181210T141500Z
DTSTAMP:20260422T060428Z
LOCATION:Hörsaal 3
END:VEVENT
BEGIN:VEVENT
UID:18W_720011_3172973@uibk.ac.at
ORGANIZER;CN="LFU:online Universität Innsbruck":MAILTO:Uni-Innsbruck-noreply@uibk.ac.at
SUMMARY:Statistik III (LV 720011-0 18W)
DESCRIPTION:Lehrveranstaltung 720011 18W, Gruppe 0\nTitel: Statistik III\nOrt: Hörsaal 3\n\nhttps://lfuonline.uibk.ac.at/public/lfuonline_lv.details?sem_id_in=18W&lvnr_id_in=720011\n
CLASS:PUBLIC
DTSTART:20190107T124500Z
DTEND:20190107T141500Z
DTSTAMP:20260422T060428Z
LOCATION:Hörsaal 3
COMMENT:ENTFÄLLT
END:VEVENT
BEGIN:VEVENT
UID:18W_720011_3172974@uibk.ac.at
ORGANIZER;CN="LFU:online Universität Innsbruck":MAILTO:Uni-Innsbruck-noreply@uibk.ac.at
SUMMARY:Statistik III (LV 720011-0 18W)
DESCRIPTION:Lehrveranstaltung 720011 18W, Gruppe 0\nTitel: Statistik III\nOrt: Hörsaal 3\n\nhttps://lfuonline.uibk.ac.at/public/lfuonline_lv.details?sem_id_in=18W&lvnr_id_in=720011\n
CLASS:PUBLIC
DTSTART:20190114T124500Z
DTEND:20190114T141500Z
DTSTAMP:20260422T060428Z
LOCATION:Hörsaal 3
END:VEVENT
BEGIN:VEVENT
UID:18W_720011_3172975@uibk.ac.at
ORGANIZER;CN="LFU:online Universität Innsbruck":MAILTO:Uni-Innsbruck-noreply@uibk.ac.at
SUMMARY:Statistik III (LV 720011-0 18W)
DESCRIPTION:Lehrveranstaltung 720011 18W, Gruppe 0\nTitel: Statistik III\nOrt: Hörsaal 3\n\nhttps://lfuonline.uibk.ac.at/public/lfuonline_lv.details?sem_id_in=18W&lvnr_id_in=720011\n
CLASS:PUBLIC
DTSTART:20190121T124500Z
DTEND:20190121T141500Z
DTSTAMP:20260422T060428Z
LOCATION:Hörsaal 3
END:VEVENT
BEGIN:VEVENT
UID:18W_720011_3172976@uibk.ac.at
ORGANIZER;CN="LFU:online Universität Innsbruck":MAILTO:Uni-Innsbruck-noreply@uibk.ac.at
SUMMARY:Statistik III (LV 720011-0 18W)
DESCRIPTION:Lehrveranstaltung 720011 18W, Gruppe 0\nTitel: Statistik III\nOrt: Hörsaal 3\n\nhttps://lfuonline.uibk.ac.at/public/lfuonline_lv.details?sem_id_in=18W&lvnr_id_in=720011\n
CLASS:PUBLIC
DTSTART:20190128T124500Z
DTEND:20190128T141500Z
DTSTAMP:20260422T060428Z
LOCATION:Hörsaal 3
END:VEVENT
BEGIN:VEVENT
UID:18W_720011_3248434@uibk.ac.at
ORGANIZER;CN="LFU:online Universität Innsbruck":MAILTO:Uni-Innsbruck-noreply@uibk.ac.at
SUMMARY:Statistik III (LV 720011-0 18W)
DESCRIPTION:Lehrveranstaltung 720011 18W, Gruppe 0\nTitel: Statistik III\nOrt: Hörsaal 4\n\nhttps://lfuonline.uibk.ac.at/public/lfuonline_lv.details?sem_id_in=18W&lvnr_id_in=720011\n
CLASS:PUBLIC
DTSTART:20190201T140000Z
DTEND:20190201T150000Z
DTSTAMP:20260422T060428Z
LOCATION:Hörsaal 4
COMMENT:1. Prüfungstermin
END:VEVENT
BEGIN:VEVENT
UID:18W_720011_3248435@uibk.ac.at
ORGANIZER;CN="LFU:online Universität Innsbruck":MAILTO:Uni-Innsbruck-noreply@uibk.ac.at
SUMMARY:Statistik III (LV 720011-0 18W)
DESCRIPTION:Lehrveranstaltung 720011 18W, Gruppe 0\nTitel: Statistik III\nOrt: Hörsaal 4\n\nhttps://lfuonline.uibk.ac.at/public/lfuonline_lv.details?sem_id_in=18W&lvnr_id_in=720011\n
CLASS:PUBLIC
DTSTART:20190201T150000Z
DTEND:20190201T160000Z
DTSTAMP:20260422T060428Z
LOCATION:Hörsaal 4
COMMENT:1. Prüfungstermin
END:VEVENT
BEGIN:VEVENT
UID:18W_720011_3248436@uibk.ac.at
ORGANIZER;CN="LFU:online Universität Innsbruck":MAILTO:Uni-Innsbruck-noreply@uibk.ac.at
SUMMARY:Statistik III (LV 720011-0 18W)
DESCRIPTION:Lehrveranstaltung 720011 18W, Gruppe 0\nTitel: Statistik III\nOrt: Hörsaal 2\n\nhttps://lfuonline.uibk.ac.at/public/lfuonline_lv.details?sem_id_in=18W&lvnr_id_in=720011\n
CLASS:PUBLIC
DTSTART:20190213T150000Z
DTEND:20190213T160000Z
DTSTAMP:20260422T060428Z
LOCATION:Hörsaal 2
COMMENT:2. Prüfungstermin
END:VEVENT
BEGIN:VEVENT
UID:18W_720011_3248437@uibk.ac.at
ORGANIZER;CN="LFU:online Universität Innsbruck":MAILTO:Uni-Innsbruck-noreply@uibk.ac.at
SUMMARY:Statistik III (LV 720011-0 18W)
DESCRIPTION:Lehrveranstaltung 720011 18W, Gruppe 0\nTitel: Statistik III\nOrt: Hörsaal 2\n\nhttps://lfuonline.uibk.ac.at/public/lfuonline_lv.details?sem_id_in=18W&lvnr_id_in=720011\n
CLASS:PUBLIC
DTSTART:20190213T160000Z
DTEND:20190213T170000Z
DTSTAMP:20260422T060428Z
LOCATION:Hörsaal 2
COMMENT:2. Prüfungstermin
END:VEVENT
BEGIN:VEVENT
UID:18W_720011_3346032@uibk.ac.at
ORGANIZER;CN="LFU:online Universität Innsbruck":MAILTO:Uni-Innsbruck-noreply@uibk.ac.at
SUMMARY:Statistik III (LV 720011-0 18W)
DESCRIPTION:Lehrveranstaltung 720011 18W, Gruppe 0\nTitel: Statistik III\nOrt: Hörsaal 4\n\nhttps://lfuonline.uibk.ac.at/public/lfuonline_lv.details?sem_id_in=18W&lvnr_id_in=720011\n
CLASS:PUBLIC
DTSTART:20190327T161500Z
DTEND:20190327T171500Z
DTSTAMP:20260422T060428Z
LOCATION:Hörsaal 4
COMMENT:3. Prüfungstermin
END:VEVENT
END:VCALENDAR