BEGIN:VCALENDAR
VERSION:2.0
PRODID:-//Universität Innsbruck//LFU:online//DE
METHOD:PUBLISH
BEGIN:VEVENT
UID:24S_740970_4586240@uibk.ac.at
ORGANIZER;CN="LFU:online Universität Innsbruck":MAILTO:Uni-Innsbruck-noreply@uibk.ac.at
SUMMARY:VU CavX II: Ion channel physiology and pathophysiology (LV 740970-0 24S)
DESCRIPTION:Lehrveranstaltung 740970 24S, Gruppe 0\nTitel: VU CavX II: Ion channel physiology and pathophysiology\nOrt: M.01.490\n\nhttps://lfuonline.uibk.ac.at/public/lfuonline_lv.details?sem_id_in=24S&lvnr_id_in=740970\n
CLASS:PUBLIC
DTSTART:20240605T070000Z
DTEND:20240605T090000Z
DTSTAMP:20260422T031318Z
LOCATION:M.01.490
END:VEVENT
BEGIN:VEVENT
UID:24S_740970_4585569@uibk.ac.at
ORGANIZER;CN="LFU:online Universität Innsbruck":MAILTO:Uni-Innsbruck-noreply@uibk.ac.at
SUMMARY:VU CavX II: Ion channel physiology and pathophysiology (LV 740970-0 24S)
DESCRIPTION:Lehrveranstaltung 740970 24S, Gruppe 0\nTitel: VU CavX II: Ion channel physiology and pathophysiology\nOrt: L.03.121\n\nhttps://lfuonline.uibk.ac.at/public/lfuonline_lv.details?sem_id_in=24S&lvnr_id_in=740970\n
CLASS:PUBLIC
DTSTART:20240606T080000Z
DTEND:20240606T100000Z
DTSTAMP:20260422T031318Z
LOCATION:L.03.121
END:VEVENT
BEGIN:VEVENT
UID:24S_740970_4586241@uibk.ac.at
ORGANIZER;CN="LFU:online Universität Innsbruck":MAILTO:Uni-Innsbruck-noreply@uibk.ac.at
SUMMARY:VU CavX II: Ion channel physiology and pathophysiology (LV 740970-0 24S)
DESCRIPTION:Lehrveranstaltung 740970 24S, Gruppe 0\nTitel: VU CavX II: Ion channel physiology and pathophysiology\nOrt: M.01.490\n\nhttps://lfuonline.uibk.ac.at/public/lfuonline_lv.details?sem_id_in=24S&lvnr_id_in=740970\n
CLASS:PUBLIC
DTSTART:20240607T070000Z
DTEND:20240607T090000Z
DTSTAMP:20260422T031318Z
LOCATION:M.01.490
END:VEVENT
BEGIN:VEVENT
UID:24S_740970_4585571@uibk.ac.at
ORGANIZER;CN="LFU:online Universität Innsbruck":MAILTO:Uni-Innsbruck-noreply@uibk.ac.at
SUMMARY:VU CavX II: Ion channel physiology and pathophysiology (LV 740970-0 24S)
DESCRIPTION:Lehrveranstaltung 740970 24S, Gruppe 0\nTitel: VU CavX II: Ion channel physiology and pathophysiology\nOrt: L.03.121\n\nhttps://lfuonline.uibk.ac.at/public/lfuonline_lv.details?sem_id_in=24S&lvnr_id_in=740970\n
CLASS:PUBLIC
DTSTART:20240610T080000Z
DTEND:20240610T100000Z
DTSTAMP:20260422T031318Z
LOCATION:L.03.121
END:VEVENT
BEGIN:VEVENT
UID:24S_740970_4585572@uibk.ac.at
ORGANIZER;CN="LFU:online Universität Innsbruck":MAILTO:Uni-Innsbruck-noreply@uibk.ac.at
SUMMARY:VU CavX II: Ion channel physiology and pathophysiology (LV 740970-0 24S)
DESCRIPTION:Lehrveranstaltung 740970 24S, Gruppe 0\nTitel: VU CavX II: Ion channel physiology and pathophysiology\nOrt: L.03.121\n\nhttps://lfuonline.uibk.ac.at/public/lfuonline_lv.details?sem_id_in=24S&lvnr_id_in=740970\n
CLASS:PUBLIC
DTSTART:20240611T080000Z
DTEND:20240611T100000Z
DTSTAMP:20260422T031318Z
LOCATION:L.03.121
END:VEVENT
BEGIN:VEVENT
UID:24S_740970_4586242@uibk.ac.at
ORGANIZER;CN="LFU:online Universität Innsbruck":MAILTO:Uni-Innsbruck-noreply@uibk.ac.at
SUMMARY:VU CavX II: Ion channel physiology and pathophysiology (LV 740970-0 24S)
DESCRIPTION:Lehrveranstaltung 740970 24S, Gruppe 0\nTitel: VU CavX II: Ion channel physiology and pathophysiology\nOrt: M.01.490\n\nhttps://lfuonline.uibk.ac.at/public/lfuonline_lv.details?sem_id_in=24S&lvnr_id_in=740970\n
CLASS:PUBLIC
DTSTART:20240612T070000Z
DTEND:20240612T090000Z
DTSTAMP:20260422T031318Z
LOCATION:M.01.490
END:VEVENT
BEGIN:VEVENT
UID:24S_740970_4586243@uibk.ac.at
ORGANIZER;CN="LFU:online Universität Innsbruck":MAILTO:Uni-Innsbruck-noreply@uibk.ac.at
SUMMARY:VU CavX II: Ion channel physiology and pathophysiology (LV 740970-0 24S)
DESCRIPTION:Lehrveranstaltung 740970 24S, Gruppe 0\nTitel: VU CavX II: Ion channel physiology and pathophysiology\nOrt: M.01.490\n\nhttps://lfuonline.uibk.ac.at/public/lfuonline_lv.details?sem_id_in=24S&lvnr_id_in=740970\n
CLASS:PUBLIC
DTSTART:20240613T070000Z
DTEND:20240613T090000Z
DTSTAMP:20260422T031318Z
LOCATION:M.01.490
END:VEVENT
BEGIN:VEVENT
UID:24S_740970_4585568@uibk.ac.at
ORGANIZER;CN="LFU:online Universität Innsbruck":MAILTO:Uni-Innsbruck-noreply@uibk.ac.at
SUMMARY:VU CavX II: Ion channel physiology and pathophysiology (LV 740970-0 24S)
DESCRIPTION:Lehrveranstaltung 740970 24S, Gruppe 0\nTitel: VU CavX II: Ion channel physiology and pathophysiology\nOrt: L.03.112\n\nhttps://lfuonline.uibk.ac.at/public/lfuonline_lv.details?sem_id_in=24S&lvnr_id_in=740970\n
CLASS:PUBLIC
DTSTART:20240614T070000Z
DTEND:20240614T090000Z
DTSTAMP:20260422T031318Z
LOCATION:L.03.112
END:VEVENT
END:VCALENDAR