BEGIN:VCALENDAR
VERSION:2.0
PRODID:-//Universität Innsbruck//LFU:online//DE
METHOD:PUBLISH
BEGIN:VEVENT
UID:24S_744936_4548960@uibk.ac.at
ORGANIZER;CN="LFU:online Universität Innsbruck":MAILTO:Uni-Innsbruck-noreply@uibk.ac.at
SUMMARY:VU Scientific Writing (LV 744936-0 24S)
DESCRIPTION:Lehrveranstaltung 744936 24S, Gruppe 0\nTitel: VU Scientific Writing\nOrt: Seminarraum 1 (ICT-Gebäude)\n\nhttps://lfuonline.uibk.ac.at/public/lfuonline_lv.details?sem_id_in=24S&lvnr_id_in=744936\n
CLASS:PUBLIC
DTSTART:20240313T151500Z
DTEND:20240313T160000Z
DTSTAMP:20260422T224401Z
LOCATION:Seminarraum 1 (ICT-Gebäude)
END:VEVENT
BEGIN:VEVENT
UID:24S_744936_4549865@uibk.ac.at
ORGANIZER;CN="LFU:online Universität Innsbruck":MAILTO:Uni-Innsbruck-noreply@uibk.ac.at
SUMMARY:VU Scientific Writing (LV 744936-0 24S)
DESCRIPTION:Lehrveranstaltung 744936 24S, Gruppe 0\nTitel: VU Scientific Writing\nOrt: Seminarraum 1 (ICT-Gebäude)\n\nhttps://lfuonline.uibk.ac.at/public/lfuonline_lv.details?sem_id_in=24S&lvnr_id_in=744936\n
CLASS:PUBLIC
DTSTART:20240320T143000Z
DTEND:20240320T160000Z
DTSTAMP:20260422T224401Z
LOCATION:Seminarraum 1 (ICT-Gebäude)
END:VEVENT
BEGIN:VEVENT
UID:24S_744936_4549866@uibk.ac.at
ORGANIZER;CN="LFU:online Universität Innsbruck":MAILTO:Uni-Innsbruck-noreply@uibk.ac.at
SUMMARY:VU Scientific Writing (LV 744936-0 24S)
DESCRIPTION:Lehrveranstaltung 744936 24S, Gruppe 0\nTitel: VU Scientific Writing\nOrt: Seminarraum 1 (ICT-Gebäude)\n\nhttps://lfuonline.uibk.ac.at/public/lfuonline_lv.details?sem_id_in=24S&lvnr_id_in=744936\n
CLASS:PUBLIC
DTSTART:20240410T133000Z
DTEND:20240410T150000Z
DTSTAMP:20260422T224401Z
LOCATION:Seminarraum 1 (ICT-Gebäude)
END:VEVENT
BEGIN:VEVENT
UID:24S_744936_4550061@uibk.ac.at
ORGANIZER;CN="LFU:online Universität Innsbruck":MAILTO:Uni-Innsbruck-noreply@uibk.ac.at
SUMMARY:VU Scientific Writing (LV 744936-0 24S)
DESCRIPTION:Lehrveranstaltung 744936 24S, Gruppe 0\nTitel: VU Scientific Writing\nOrt: Seminarraum 1 (ICT-Gebäude)\n\nhttps://lfuonline.uibk.ac.at/public/lfuonline_lv.details?sem_id_in=24S&lvnr_id_in=744936\n
CLASS:PUBLIC
DTSTART:20240417T123000Z
DTEND:20240417T140000Z
DTSTAMP:20260422T224401Z
LOCATION:Seminarraum 1 (ICT-Gebäude)
END:VEVENT
BEGIN:VEVENT
UID:24S_744936_4549868@uibk.ac.at
ORGANIZER;CN="LFU:online Universität Innsbruck":MAILTO:Uni-Innsbruck-noreply@uibk.ac.at
SUMMARY:VU Scientific Writing (LV 744936-0 24S)
DESCRIPTION:Lehrveranstaltung 744936 24S, Gruppe 0\nTitel: VU Scientific Writing\nOrt: Seminarraum 1 (ICT-Gebäude)\n\nhttps://lfuonline.uibk.ac.at/public/lfuonline_lv.details?sem_id_in=24S&lvnr_id_in=744936\n
CLASS:PUBLIC
DTSTART:20240424T133000Z
DTEND:20240424T150000Z
DTSTAMP:20260422T224401Z
LOCATION:Seminarraum 1 (ICT-Gebäude)
END:VEVENT
BEGIN:VEVENT
UID:24S_744936_4549870@uibk.ac.at
ORGANIZER;CN="LFU:online Universität Innsbruck":MAILTO:Uni-Innsbruck-noreply@uibk.ac.at
SUMMARY:VU Scientific Writing (LV 744936-0 24S)
DESCRIPTION:Lehrveranstaltung 744936 24S, Gruppe 0\nTitel: VU Scientific Writing\nOrt: Seminarraum 1 (ICT-Gebäude)\n\nhttps://lfuonline.uibk.ac.at/public/lfuonline_lv.details?sem_id_in=24S&lvnr_id_in=744936\n
CLASS:PUBLIC
DTSTART:20240515T133000Z
DTEND:20240515T150000Z
DTSTAMP:20260422T224401Z
LOCATION:Seminarraum 1 (ICT-Gebäude)
END:VEVENT
BEGIN:VEVENT
UID:24S_744936_4549871@uibk.ac.at
ORGANIZER;CN="LFU:online Universität Innsbruck":MAILTO:Uni-Innsbruck-noreply@uibk.ac.at
SUMMARY:VU Scientific Writing (LV 744936-0 24S)
DESCRIPTION:Lehrveranstaltung 744936 24S, Gruppe 0\nTitel: VU Scientific Writing\nOrt: Seminarraum 1 (ICT-Gebäude)\n\nhttps://lfuonline.uibk.ac.at/public/lfuonline_lv.details?sem_id_in=24S&lvnr_id_in=744936\n
CLASS:PUBLIC
DTSTART:20240522T133000Z
DTEND:20240522T150000Z
DTSTAMP:20260422T224401Z
LOCATION:Seminarraum 1 (ICT-Gebäude)
END:VEVENT
BEGIN:VEVENT
UID:24S_744936_4549872@uibk.ac.at
ORGANIZER;CN="LFU:online Universität Innsbruck":MAILTO:Uni-Innsbruck-noreply@uibk.ac.at
SUMMARY:VU Scientific Writing (LV 744936-0 24S)
DESCRIPTION:Lehrveranstaltung 744936 24S, Gruppe 0\nTitel: VU Scientific Writing\nOrt: Seminarraum 1 (ICT-Gebäude)\n\nhttps://lfuonline.uibk.ac.at/public/lfuonline_lv.details?sem_id_in=24S&lvnr_id_in=744936\n
CLASS:PUBLIC
DTSTART:20240529T133000Z
DTEND:20240529T150000Z
DTSTAMP:20260422T224401Z
LOCATION:Seminarraum 1 (ICT-Gebäude)
END:VEVENT
BEGIN:VEVENT
UID:24S_744936_4665928@uibk.ac.at
ORGANIZER;CN="LFU:online Universität Innsbruck":MAILTO:Uni-Innsbruck-noreply@uibk.ac.at
SUMMARY:VU Scientific Writing (LV 744936-0 24S)
DESCRIPTION:Lehrveranstaltung 744936 24S, Gruppe 0\nTitel: VU Scientific Writing\nOrt: rr 25\n\nhttps://lfuonline.uibk.ac.at/public/lfuonline_lv.details?sem_id_in=24S&lvnr_id_in=744936\n
CLASS:PUBLIC
DTSTART:20240612T133000Z
DTEND:20240612T150000Z
DTSTAMP:20260422T224401Z
LOCATION:rr 25
COMMENT:Prüfung
END:VEVENT
BEGIN:VEVENT
UID:24S_744936_4665934@uibk.ac.at
ORGANIZER;CN="LFU:online Universität Innsbruck":MAILTO:Uni-Innsbruck-noreply@uibk.ac.at
SUMMARY:VU Scientific Writing (LV 744936-0 24S)
DESCRIPTION:Lehrveranstaltung 744936 24S, Gruppe 0\nTitel: VU Scientific Writing\nOrt: rr 25\n\nhttps://lfuonline.uibk.ac.at/public/lfuonline_lv.details?sem_id_in=24S&lvnr_id_in=744936\n
CLASS:PUBLIC
DTSTART:20240626T133000Z
DTEND:20240626T150000Z
DTSTAMP:20260422T224401Z
LOCATION:rr 25
COMMENT:Prüfung
END:VEVENT
END:VCALENDAR