BEGIN:VCALENDAR
VERSION:2.0
PRODID:-//Universität Innsbruck//LFU:online//DE
METHOD:PUBLISH
BEGIN:VEVENT
UID:24S_850151_4545776@uibk.ac.at
ORGANIZER;CN="LFU:online Universität Innsbruck":MAILTO:Uni-Innsbruck-noreply@uibk.ac.at
SUMMARY:VU Biomedizinische Technik - Ringlabor (LV 850151-0 24S)
DESCRIPTION:Lehrveranstaltung 850151 24S, Gruppe 0\nTitel: VU Biomedizinische Technik - Ringlabor\nOrt: Großer Praktikumsraum Mechatronik\n\nhttps://lfuonline.uibk.ac.at/public/lfuonline_lv.details?sem_id_in=24S&lvnr_id_in=850151\n
CLASS:PUBLIC
DTSTART:20240315T131500Z
DTEND:20240315T171500Z
DTSTAMP:20260419T143918Z
LOCATION:Großer Praktikumsraum Mechatronik
END:VEVENT
BEGIN:VEVENT
UID:24S_850151_4545777@uibk.ac.at
ORGANIZER;CN="LFU:online Universität Innsbruck":MAILTO:Uni-Innsbruck-noreply@uibk.ac.at
SUMMARY:VU Biomedizinische Technik - Ringlabor (LV 850151-0 24S)
DESCRIPTION:Lehrveranstaltung 850151 24S, Gruppe 0\nTitel: VU Biomedizinische Technik - Ringlabor\nOrt: Großer Praktikumsraum Mechatronik\n\nhttps://lfuonline.uibk.ac.at/public/lfuonline_lv.details?sem_id_in=24S&lvnr_id_in=850151\n
CLASS:PUBLIC
DTSTART:20240322T131500Z
DTEND:20240322T171500Z
DTSTAMP:20260419T143918Z
LOCATION:Großer Praktikumsraum Mechatronik
END:VEVENT
BEGIN:VEVENT
UID:24S_850151_4529561@uibk.ac.at
ORGANIZER;CN="LFU:online Universität Innsbruck":MAILTO:Uni-Innsbruck-noreply@uibk.ac.at
SUMMARY:VU Biomedizinische Technik - Ringlabor (LV 850151-0 24S)
DESCRIPTION:Lehrveranstaltung 850151 24S, Gruppe 0\nTitel: VU Biomedizinische Technik - Ringlabor\nOrt: UMIT\n\nhttps://lfuonline.uibk.ac.at/public/lfuonline_lv.details?sem_id_in=24S&lvnr_id_in=850151\n
CLASS:PUBLIC
DTSTART:20240610T130000Z
DTEND:20240610T143000Z
DTSTAMP:20260419T143918Z
LOCATION:UMIT
END:VEVENT
BEGIN:VEVENT
UID:24S_850151_4537066@uibk.ac.at
ORGANIZER;CN="LFU:online Universität Innsbruck":MAILTO:Uni-Innsbruck-noreply@uibk.ac.at
SUMMARY:VU Biomedizinische Technik - Ringlabor (LV 850151-0 24S)
DESCRIPTION:Lehrveranstaltung 850151 24S, Gruppe 0\nTitel: VU Biomedizinische Technik - Ringlabor\nOrt: UMIT\n\nhttps://lfuonline.uibk.ac.at/public/lfuonline_lv.details?sem_id_in=24S&lvnr_id_in=850151\n
CLASS:PUBLIC
DTSTART:20240610T130000Z
DTEND:20240610T143000Z
DTSTAMP:20260419T143918Z
LOCATION:UMIT
END:VEVENT
BEGIN:VEVENT
UID:24S_850151_4529563@uibk.ac.at
ORGANIZER;CN="LFU:online Universität Innsbruck":MAILTO:Uni-Innsbruck-noreply@uibk.ac.at
SUMMARY:VU Biomedizinische Technik - Ringlabor (LV 850151-0 24S)
DESCRIPTION:Lehrveranstaltung 850151 24S, Gruppe 0\nTitel: VU Biomedizinische Technik - Ringlabor\nOrt: UMIT\n\nhttps://lfuonline.uibk.ac.at/public/lfuonline_lv.details?sem_id_in=24S&lvnr_id_in=850151\n
CLASS:PUBLIC
DTSTART:20240701T111500Z
DTEND:20240701T144500Z
DTSTAMP:20260419T143918Z
LOCATION:UMIT
END:VEVENT
BEGIN:VEVENT
UID:24S_850151_4537067@uibk.ac.at
ORGANIZER;CN="LFU:online Universität Innsbruck":MAILTO:Uni-Innsbruck-noreply@uibk.ac.at
SUMMARY:VU Biomedizinische Technik - Ringlabor (LV 850151-0 24S)
DESCRIPTION:Lehrveranstaltung 850151 24S, Gruppe 0\nTitel: VU Biomedizinische Technik - Ringlabor\nOrt: UMIT\n\nhttps://lfuonline.uibk.ac.at/public/lfuonline_lv.details?sem_id_in=24S&lvnr_id_in=850151\n
CLASS:PUBLIC
DTSTART:20240701T111500Z
DTEND:20240701T144500Z
DTSTAMP:20260419T143918Z
LOCATION:UMIT
END:VEVENT
END:VCALENDAR